Workbook

Sheet OB
I2: contact@reedmachines.com - www.reedmachines.com
I3: Laarweg 7 - 6882 AA - Velp - Netherlands
I4: VAT no. NL852435538B01 - EORI no. NL852435538
B7: Calculator for the thickness of gouged oboe cane
C9: How it works : | D9: 1 - Choose the Type of oboe from the dropdown list
D10: 2 - Choose the Cane (bed set) diameter from the dropdown list
D11: 3 - Specify the Thickness in the middle
D12: 4 - Specify the Width of the finished reed tip
D13: 5 - Select your option and read out the knife (carriage set) diameter you need
C15: Type of oboe : | D15: Oboe
C16: Cane (bed set) diameter : | D16: 11 | E16: [mm]
C17: Thickness in the middle : | D17: 0.6 | E17: [mm]
C18: Width of the finished reed tip : | D18: 7 | E18: [mm]
B20: Option | C20: Cane | D20: Knife | E20: Width of the | F20: Thickness | I20: Select
C21: (bed set) | D21: (carriage set) | E21: finished | F21: in the | G21: at the | H21: difference | I21: your
C22: diameter | D22: diameter | E22: reed tip | F22: middle | G22: sides | I22: option
C23: [mm] | D23: [mm] | E23: [mm] | F23: [mm] | G23: [mm] | H23: [mm] | I23: [y]
B24: =IF('D01'!B8>=1,1,0) -> 1 | C24: =IF(B24<>0,IF(COUNTIF('D01'!$D$8:$M$8,"="&$D$16)=0,"Invalid diameter",$D$16),0) -> 11 | D24: =IF(B24<>0,IF(C24="Invalid diameter",0,VLOOKUP($D$16,INDIRECT('D01'!$C$8),B24+1,FALSE)),0) -> 10 | E24: =IF(D24=0,0,$D$18) -> 7 | F24: =IF(D24=0,0,$D$17) -> 0.6 | G24: =IF(D24=0,0,SQRT(((2*SIN($D$18/$D$16)*($D$16/2))/2)^2+((SQRT(($D$16/2)^2-((2*SIN($D$18/$D$16)*($D$16/2))/2)^2))+(($D24/2)+$D$17-($D$16/2)))^2)-($D24/2)) -> 0.58074263 | H24: =IF(D24=0,0,$D$17-G24) -> 0.019257372
B25: =IF('D01'!B8>=2,2,0) -> 2 | C25: =IF(B25<>0,IF(COUNTIF('D01'!$D$8:$M$8,"="&$D$16)=0,"Invalid diameter",$D$16),0) -> 11 | D25: =IF(B25<>0,IF(C25="Invalid diameter",0,VLOOKUP($D$16,INDIRECT('D01'!$C$8),B25+1,FALSE)),0) -> 10.3 | E25: =IF(D25=0,0,$D$18) -> 7 | F25: =IF(D25=0,0,$D$17) -> 0.6 | G25: =IF(D25=0,0,SQRT(((2*SIN($D$18/$D$16)*($D$16/2))/2)^2+((SQRT(($D$16/2)^2-((2*SIN($D$18/$D$16)*($D$16/2))/2)^2))+(($D25/2)+$D$17-($D$16/2)))^2)-($D25/2)) -> 0.55300103 | H25: =IF(D25=0,0,$D$17-G25) -> 0.046998975
B26: =IF('D01'!B8>=3,3,0) -> 3 | C26: =IF(B26<>0,IF(COUNTIF('D01'!$D$8:$M$8,"="&$D$16)=0,"Invalid diameter",$D$16),0) -> 11 | D26: =IF(B26<>0,IF(C26="Invalid diameter",0,VLOOKUP($D$16,INDIRECT('D01'!$C$8),B26+1,FALSE)),0) -> 10.5 | E26: =IF(D26=0,0,$D$18) -> 7 | F26: =IF(D26=0,0,$D$17) -> 0.6 | G26: =IF(D26=0,0,SQRT(((2*SIN($D$18/$D$16)*($D$16/2))/2)^2+((SQRT(($D$16/2)^2-((2*SIN($D$18/$D$16)*($D$16/2))/2)^2))+(($D26/2)+$D$17-($D$16/2)))^2)-($D26/2)) -> 0.53523197 | H26: =IF(D26=0,0,$D$17-G26) -> 0.064768028
B27: =IF('D01'!B8>=4,4,0) -> 4 | C27: =IF(B27<>0,IF(COUNTIF('D01'!$D$8:$M$8,"="&$D$16)=0,"Invalid diameter",$D$16),0) -> 11 | D27: =IF(B27<>0,IF(C27="Invalid diameter",0,VLOOKUP($D$16,INDIRECT('D01'!$C$8),B27+1,FALSE)),0) -> 10.7 | E27: =IF(D27=0,0,$D$18) -> 7 | F27: =IF(D27=0,0,$D$17) -> 0.6 | G27: =IF(D27=0,0,SQRT(((2*SIN($D$18/$D$16)*($D$16/2))/2)^2+((SQRT(($D$16/2)^2-((2*SIN($D$18/$D$16)*($D$16/2))/2)^2))+(($D27/2)+$D$17-($D$16/2)))^2)-($D27/2)) -> 0.51801476 | H27: =IF(D27=0,0,$D$17-G27) -> 0.081985238
B28: =IF('D01'!B8>=5,5,0) -> 5 | C28: =IF(B28<>0,IF(COUNTIF('D01'!$D$8:$M$8,"="&$D$16)=0,"Invalid diameter",$D$16),0) -> 11 | D28: =IF(B28<>0,IF(C28="Invalid diameter",0,VLOOKUP($D$16,INDIRECT('D01'!$C$8),B28+1,FALSE)),0) -> 11 | E28: =IF(D28=0,0,$D$18) -> 7 | F28: =IF(D28=0,0,$D$17) -> 0.6 | G28: =IF(D28=0,0,SQRT(((2*SIN($D$18/$D$16)*($D$16/2))/2)^2+((SQRT(($D$16/2)^2-((2*SIN($D$18/$D$16)*($D$16/2))/2)^2))+(($D28/2)+$D$17-($D$16/2)))^2)-($D28/2)) -> 0.49317359 | H28: =IF(D28=0,0,$D$17-G28) -> 0.10682641
B29: =IF('D01'!B8>=6,6,0) -> 6 | C29: =IF(B29<>0,IF(COUNTIF('D01'!$D$8:$M$8,"="&$D$16)=0,"Invalid diameter",$D$16),0) -> 11 | D29: =IF(B29<>0,IF(C29="Invalid diameter",0,VLOOKUP($D$16,INDIRECT('D01'!$C$8),B29+1,FALSE)),0) -> 11.3 | E29: =IF(D29=0,0,$D$18) -> 7 | F29: =IF(D29=0,0,$D$17) -> 0.6 | G29: =IF(D29=0,0,SQRT(((2*SIN($D$18/$D$16)*($D$16/2))/2)^2+((SQRT(($D$16/2)^2-((2*SIN($D$18/$D$16)*($D$16/2))/2)^2))+(($D29/2)+$D$17-($D$16/2)))^2)-($D29/2)) -> 0.46944949 | H29: =IF(D29=0,0,$D$17-G29) -> 0.13055051
B30: =IF('D01'!B8>=7,7,0) -> 7 | C30: =IF(B30<>0,IF(COUNTIF('D01'!$D$8:$M$8,"="&$D$16)=0,"Invalid diameter",$D$16),0) -> 11 | D30: =IF(B30<>0,IF(C30="Invalid diameter",0,VLOOKUP($D$16,INDIRECT('D01'!$C$8),B30+1,FALSE)),0) -> 11.4 | E30: =IF(D30=0,0,$D$18) -> 7 | F30: =IF(D30=0,0,$D$17) -> 0.6 | G30: =IF(D30=0,0,SQRT(((2*SIN($D$18/$D$16)*($D$16/2))/2)^2+((SQRT(($D$16/2)^2-((2*SIN($D$18/$D$16)*($D$16/2))/2)^2))+(($D30/2)+$D$17-($D$16/2)))^2)-($D30/2)) -> 0.46177785 | H30: =IF(D30=0,0,$D$17-G30) -> 0.13822215
B31: =IF('D01'!B8>=8,8,0) -> 8 | C31: =IF(B31<>0,IF(COUNTIF('D01'!$D$8:$M$8,"="&$D$16)=0,"Invalid diameter",$D$16),0) -> 11 | D31: =IF(B31<>0,IF(C31="Invalid diameter",0,VLOOKUP($D$16,INDIRECT('D01'!$C$8),B31+1,FALSE)),0) -> 11.5 | E31: =IF(D31=0,0,$D$18) -> 7 | F31: =IF(D31=0,0,$D$17) -> 0.6 | G31: =IF(D31=0,0,SQRT(((2*SIN($D$18/$D$16)*($D$16/2))/2)^2+((SQRT(($D$16/2)^2-((2*SIN($D$18/$D$16)*($D$16/2))/2)^2))+(($D31/2)+$D$17-($D$16/2)))^2)-($D31/2)) -> 0.45422037 | H31: =IF(D31=0,0,$D$17-G31) -> 0.14577963
B32: =IF('D01'!B8>=9,9,0) -> 9 | C32: =IF(B32<>0,IF(COUNTIF('D01'!$D$8:$M$8,"="&$D$16)=0,"Invalid diameter",$D$16),0) -> 11 | D32: =IF(B32<>0,IF(C32="Invalid diameter",0,VLOOKUP($D$16,INDIRECT('D01'!$C$8),B32+1,FALSE)),0) -> 11.7 | E32: =IF(D32=0,0,$D$18) -> 7 | F32: =IF(D32=0,0,$D$17) -> 0.6 | G32: =IF(D32=0,0,SQRT(((2*SIN($D$18/$D$16)*($D$16/2))/2)^2+((SQRT(($D$16/2)^2-((2*SIN($D$18/$D$16)*($D$16/2))/2)^2))+(($D32/2)+$D$17-($D$16/2)))^2)-($D32/2)) -> 0.43943866 | H32: =IF(D32=0,0,$D$17-G32) -> 0.16056134
B33: =IF('D01'!B8>=10,10,0) -> 10 | C33: =IF(B33<>0,IF(COUNTIF('D01'!$D$8:$M$8,"="&$D$16)=0,"Invalid diameter",$D$16),0) -> 11 | D33: =IF(B33<>0,IF(C33="Invalid diameter",0,VLOOKUP($D$16,INDIRECT('D01'!$C$8),B33+1,FALSE)),0) -> 11.8 | E33: =IF(D33=0,0,$D$18) -> 7 | F33: =IF(D33=0,0,$D$17) -> 0.6 | G33: =IF(D33=0,0,SQRT(((2*SIN($D$18/$D$16)*($D$16/2))/2)^2+((SQRT(($D$16/2)^2-((2*SIN($D$18/$D$16)*($D$16/2))/2)^2))+(($D33/2)+$D$17-($D$16/2)))^2)-($D33/2)) -> 0.43220994 | H33: =IF(D33=0,0,$D$17-G33) -> 0.16779006
B34: =IF('D01'!B8>=11,11,0) -> 11 | C34: =IF(B34<>0,IF(COUNTIF('D01'!$D$8:$M$8,"="&$D$16)=0,"Invalid diameter",$D$16),0) -> 11 | D34: =IF(B34<>0,IF(C34="Invalid diameter",0,VLOOKUP($D$16,INDIRECT('D01'!$C$8),B34+1,FALSE)),0) -> 11.9 | E34: =IF(D34=0,0,$D$18) -> 7 | F34: =IF(D34=0,0,$D$17) -> 0.6 | G34: =IF(D34=0,0,SQRT(((2*SIN($D$18/$D$16)*($D$16/2))/2)^2+((SQRT(($D$16/2)^2-((2*SIN($D$18/$D$16)*($D$16/2))/2)^2))+(($D34/2)+$D$17-($D$16/2)))^2)-($D34/2)) -> 0.42508642 | H34: =IF(D34=0,0,$D$17-G34) -> 0.17491358
B35: =IF('D01'!B8>=12,12,0) -> 0 | C35: =IF(B35<>0,IF(COUNTIF('D01'!$D$8:$M$8,"="&$D$16)=0,"Invalid diameter",$D$16),0) -> 0 | D35: =IF(B35<>0,IF(C35="Invalid diameter",0,VLOOKUP($D$16,INDIRECT('D01'!$C$8),B35+1,FALSE)),0) -> 0 | E35: =IF(D35=0,0,$D$18) -> 0 | F35: =IF(D35=0,0,$D$17) -> 0 | G35: =IF(D35=0,0,SQRT(((2*SIN($D$18/$D$16)*($D$16/2))/2)^2+((SQRT(($D$16/2)^2-((2*SIN($D$18/$D$16)*($D$16/2))/2)^2))+(($D35/2)+$D$17-($D$16/2)))^2)-($D35/2)) -> 0 | H35: =IF(D35=0,0,$D$17-G35) -> 0
C37: Remarks : | D37: 1 - You can only select and change the values in the blue cells
D38: 2 - The more the actual cane diameter deviates from the specified diameter, and the less straight and round the
D39: piece of cane is, the more the calculated values ​​will deviate
D40: 3 - We sell gougers from stock for all indicated options
B42: PI_018_v01-01_EN | I42: Product information

Sheet D01
A1: Oboe | B1: 11 | C1: ="'D01'!$A$12:$M$16" -> 'D01'!$A$12:$M$16 | D1: ="'D01'!$E$8:$I$8" -> 'D01'!$E$8:$I$8 | E1: 9.5 | F1: 10 | G1: 10.5 | H1: 11 | I1: 11.5
A2: Cor anglais | B2: 5 | C2: ="'D01'!$A$19:$M$23" -> 'D01'!$A$19:$M$23 | D2: ="'D01'!$E$8:$I$8" -> 'D01'!$E$8:$I$8 | E2: 11.5 | F2: 12 | G2: 12.5 | H2: 13 | I2: 13.5
A3: Oboe d'amore | B3: 6 | C3: ="'D01'!$A$26:$M$28" -> 'D01'!$A$26:$M$28 | D3: ="'D01'!$E$8:$G$8" -> 'D01'!$E$8:$G$8 | E3: 10.5 | F3: 11 | G3: 11.5
A4: Viennese oboe | B4: 2 | C4: ="'D01'!$A$31:$M$32" -> 'D01'!$A$31:$M$32 | D4: ="'D01'!$E$8:$F$8" -> 'D01'!$E$8:$F$8 | E4: 11.5 | F4: 12.5
A5: Baroque oboe | B5: 8 | C5: ="'D01'!$A$35:$M$41" -> 'D01'!$A$35:$M$41 | D5: ="'D01'!$E$8:$K$8" -> 'D01'!$E$8:$K$8 | E5: 13 | F5: 13.5 | G5: 14 | H5: 14.5 | I5: 15 | J5: 15.5 | K5: 16
A6: Bass oboe | B6: 5 | C6: ="'D01'!$A$44:$M$46" -> 'D01'!$A$44:$M$46 | D6: ="'D01'!$E$8:$G$8" -> 'D01'!$E$8:$G$8 | E6: 15 | F6: 15.5 | G6: 16
A8: =VLOOKUP(OB!D15,$A$1:$N$6,1,FALSE) -> Oboe | B8: =VLOOKUP(OB!D15,$A$1:$N$6,2,FALSE) -> 11 | C8: =VLOOKUP(OB!D15,$A$1:$N$6,3,FALSE) -> 'D01'!$A$12:$M$16 | D8: =VLOOKUP(OB!D15,$A$1:$N$6,4,FALSE) -> 'D01'!$E$8:$I$8 | E8: =VLOOKUP(OB!D15,$A$1:$N$6,5,FALSE) -> 9.5 | F8: =VLOOKUP(OB!D15,$A$1:$N$6,6,FALSE) -> 10 | G8: =VLOOKUP(OB!D15,$A$1:$N$6,7,FALSE) -> 10.5 | H8: =VLOOKUP(OB!D15,$A$1:$N$6,8,FALSE) -> 11 | I8: =VLOOKUP(OB!D15,$A$1:$N$6,9,FALSE) -> 11.5 | J8: =VLOOKUP(OB!D15,$A$1:$N$6,10,FALSE) -> 0 | K8: =VLOOKUP(OB!D15,$A$1:$N$6,11,FALSE) -> 0 | L8: =VLOOKUP(OB!D15,$A$1:$N$6,12,FALSE) -> 0 | M8: =VLOOKUP(OB!D15,$A$1:$N$6,13,FALSE) -> 0
A11: Oboe | B11: 1 | C11: 2 | D11: 3 | E11: 4 | F11: 5 | G11: 6 | H11: 7 | I11: 8 | J11: 9 | K11: 10 | L11: 11 | M11: 12
A12: 9.5 | B12: 10 | C12: 10.3 | D12: 10.5 | E12: 10.7 | F12: 11 | G12: 11.3 | H12: 11.4 | I12: 11.5 | J12: 11.7 | K12: 11.8 | L12: 11.9
A13: 10 | B13: 10 | C13: 10.3 | D13: 10.5 | E13: 10.7 | F13: 11 | G13: 11.3 | H13: 11.4 | I13: 11.5 | J13: 11.7 | K13: 11.8 | L13: 11.9
A14: 10.5 | B14: 10 | C14: 10.3 | D14: 10.5 | E14: 10.7 | F14: 11 | G14: 11.3 | H14: 11.4 | I14: 11.5 | J14: 11.7 | K14: 11.8 | L14: 11.9
A15: 11 | B15: 10 | C15: 10.3 | D15: 10.5 | E15: 10.7 | F15: 11 | G15: 11.3 | H15: 11.4 | I15: 11.5 | J15: 11.7 | K15: 11.8 | L15: 11.9
A16: 11.5 | B16: 10 | C16: 10.3 | D16: 10.5 | E16: 10.7 | F16: 11 | G16: 11.3 | H16: 11.4 | I16: 11.5 | J16: 11.7 | K16: 11.8 | L16: 11.9
A18: Cor anglais | B18: 1 | C18: 2 | D18: 3 | E18: 4 | F18: 5 | G18: 6 | H18: 7 | I18: 8 | J18: 9 | K18: 10 | L18: 11 | M18: 12
A19: 11.5 | B19: 11.9 | C19: 12 | D19: 12.5 | E19: 13 | F19: 13.5
A20: 12 | B20: 11.9 | C20: 12 | D20: 12.5 | E20: 13 | F20: 13.5
A21: 12.5 | B21: 11.9 | C21: 12 | D21: 12.5 | E21: 13 | F21: 13.5
A22: 13 | B22: 11.9 | C22: 12 | D22: 12.5 | E22: 13 | F22: 13.5
A23: 13.5 | B23: 11.9 | C23: 12 | D23: 12.5 | E23: 13 | F23: 13.5
A25: Oboe d'amore | B25: 1 | C25: 2 | D25: 3 | E25: 4 | F25: 5 | G25: 6 | H25: 7 | I25: 8 | J25: 9 | K25: 10 | L25: 11 | M25: 12
A26: 10.5 | B26: 11.4 | C26: 11.5 | D26: 11.7 | E26: 11.8 | F26: 11.9 | G26: 12
A27: 11 | B27: 11.4 | C27: 11.5 | D27: 11.7 | E27: 11.8 | F27: 11.9 | G27: 12
A28: 11.5 | B28: 11.4 | C28: 11.5 | D28: 11.7 | E28: 11.8 | F28: 11.9 | G28: 12
A30: Viennese oboe | B30: 1 | C30: 2 | D30: 3 | E30: 4 | F30: 5 | G30: 6 | H30: 7 | I30: 8 | J30: 9 | K30: 10 | L30: 11 | M30: 12
A31: 11.5 | B31: 12.5 | C31: 13
A32: 12.5 | B32: 12.5 | C32: 13
A34: Baroque oboe | B34: 1 | C34: 2 | D34: 3 | E34: 4 | F34: 5 | G34: 6 | H34: 7 | I34: 8 | J34: 9 | K34: 10 | L34: 11 | M34: 12
A35: 13 | B35: 13.5 | C35: 14 | D35: 14.5 | E35: 15 | F35: 15.5 | G35: 16 | H35: 16.5 | I35: 17
A36: 13.5 | B36: 13.5 | C36: 14 | D36: 14.5 | E36: 15 | F36: 15.5 | G36: 16 | H36: 16.5 | I36: 17
A37: 14 | B37: 13.5 | C37: 14 | D37: 14.5 | E37: 15 | F37: 15.5 | G37: 16 | H37: 16.5 | I37: 17
A38: 14.5 | B38: 13.5 | C38: 14 | D38: 14.5 | E38: 15 | F38: 15.5 | G38: 16 | H38: 16.5 | I38: 17
A39: 15 | B39: 13.5 | C39: 14 | D39: 14.5 | E39: 15 | F39: 15.5 | G39: 16 | H39: 16.5 | I39: 17
A40: 15.5 | B40: 13.5 | C40: 14 | D40: 14.5 | E40: 15 | F40: 15.5 | G40: 16 | H40: 16.5 | I40: 17
A41: 16 | B41: 13.5 | C41: 14 | D41: 14.5 | E41: 15 | F41: 15.5 | G41: 16 | H41: 16.5 | I41: 17
A43: Bass oboe | B43: 1 | C43: 2 | D43: 3 | E43: 4 | F43: 5 | G43: 6 | H43: 7 | I43: 8 | J43: 9 | K43: 10 | L43: 11 | M43: 12
A44: 15 | B44: 15.5 | C44: 16 | D44: 16.5 | E44: 17 | F44: 18
A45: 15.5 | B45: 15.5 | C45: 16 | D45: 16.5 | E45: 17 | F45: 18
A46: 16 | B46: 15.5 | C46: 16 | D46: 16.5 | E46: 17 | F46: 18
A48: y
