Workbook

Sheet BA
I2: contact@reedmachines.com - www.reedmachines.com
I3: Laarweg 7 - 6882 AA - Velp - Netherlands
I4: VAT no. NL852435538B01 - EORI no. NL852435538
B7: Calculator for the thickness of gouged bassoon cane
C9: How it works : | D9: 1 - Choose the Type of oboe from the dropdown list
D10: 2 - Choose the Cane (bed set) diameter from the dropdown list
D11: 3 - Specify the Thickness in the middle
D12: 4 - Specify the Width of the finished reed tip
D13: 5 - Select your option and read out the knife (carriage set) diameter you need
C15: Type of bassoon : | D15: Bassoon
C16: Cane (bed set) diameter : | D16: 26 | E16: [mm]
C17: Thickness in the middle : | D17: 1.25 | E17: [mm]
C18: Width of the finished reed tip : | D18: 16 | E18: [mm]
B20: Option | C20: Cane | D20: Knife | E20: Width of the | F20: Thickness | I20: Select
C21: (bed set) | D21: (carriage set) | E21: finished | F21: in the | G21: at the | H21: difference | I21: option
C22: diameter | D22: diameter | E22: reed tip | F22: middle | G22: sides
C23: [mm] | D23: [mm] | E23: [mm] | F23: [mm] | G23: [mm] | H23: [mm] | I23: [y]
B24: =IF('D01'!B6>=1,1,"") -> 1 | C24: =IF(B24<>"",IF(COUNTIF('D01'!$D$6:$M$6,"="&$D$16)=0,"Invalid diameter",$D$16),"") -> 26 | D24: =IF(B24<>"",IF(C24="Invalid diameter","",VLOOKUP($D$16,INDIRECT('D01'!$C$6),B24+1,FALSE)),"") -> 21.5 | E24: =IF(D24="","",$D$18) -> 16 | F24: =IF(D24="","",$D$17) -> 1.25 | G24: =IF(D24="","",SQRT(((2*SIN($D$18/$D$16)*($D$16/2))/2)^2+((SQRT(($D$16/2)^2-((2*SIN($D$18/$D$16)*($D$16/2))/2)^2))+(($D24/2)+$D$17-($D$16/2)))^2)-($D24/2)) -> 1.4471169 | H24: =IF(D24="","",$D$17-G24) -> -0.19711694
B25: =IF('D01'!B6>=2,2,"") -> 2 | C25: =IF(B25<>"",IF(COUNTIF('D01'!$D$6:$M$6,"="&$D$16)=0,"Invalid diameter",$D$16),"") -> 26 | D25: =IF(B25<>"",IF(C25="Invalid diameter","",VLOOKUP($D$16,INDIRECT('D01'!$C$6),B25+1,FALSE)),"") -> 22.5 | E25: =IF(D25="","",$D$18) -> 16 | F25: =IF(D25="","",$D$17) -> 1.25 | G25: =IF(D25="","",SQRT(((2*SIN($D$18/$D$16)*($D$16/2))/2)^2+((SQRT(($D$16/2)^2-((2*SIN($D$18/$D$16)*($D$16/2))/2)^2))+(($D25/2)+$D$17-($D$16/2)))^2)-($D25/2)) -> 1.345032 | H25: =IF(D25="","",$D$17-G25) -> -0.095031988
B26: =IF('D01'!B6>=3,3,"") -> 3 | C26: =IF(B26<>"",IF(COUNTIF('D01'!$D$6:$M$6,"="&$D$16)=0,"Invalid diameter",$D$16),"") -> 26 | D26: =IF(B26<>"",IF(C26="Invalid diameter","",VLOOKUP($D$16,INDIRECT('D01'!$C$6),B26+1,FALSE)),"") -> 23.5 | E26: =IF(D26="","",$D$18) -> 16 | F26: =IF(D26="","",$D$17) -> 1.25 | G26: =IF(D26="","",SQRT(((2*SIN($D$18/$D$16)*($D$16/2))/2)^2+((SQRT(($D$16/2)^2-((2*SIN($D$18/$D$16)*($D$16/2))/2)^2))+(($D26/2)+$D$17-($D$16/2)))^2)-($D26/2)) -> 1.25 | H26: =IF(D26="","",$D$17-G26) -> 0
B27: =IF('D01'!B6>=4,4,"") -> 4 | C27: =IF(B27<>"",IF(COUNTIF('D01'!$D$6:$M$6,"="&$D$16)=0,"Invalid diameter",$D$16),"") -> 26 | D27: =IF(B27<>"",IF(C27="Invalid diameter","",VLOOKUP($D$16,INDIRECT('D01'!$C$6),B27+1,FALSE)),"") -> 24 | E27: =IF(D27="","",$D$18) -> 16 | F27: =IF(D27="","",$D$17) -> 1.25 | G27: =IF(D27="","",SQRT(((2*SIN($D$18/$D$16)*($D$16/2))/2)^2+((SQRT(($D$16/2)^2-((2*SIN($D$18/$D$16)*($D$16/2))/2)^2))+(($D27/2)+$D$17-($D$16/2)))^2)-($D27/2)) -> 1.2049265 | H27: =IF(D27="","",$D$17-G27) -> 0.045073472
B28: =IF('D01'!B6>=5,5,"") -> 5 | C28: =IF(B28<>"",IF(COUNTIF('D01'!$D$6:$M$6,"="&$D$16)=0,"Invalid diameter",$D$16),"") -> 26 | D28: =IF(B28<>"",IF(C28="Invalid diameter","",VLOOKUP($D$16,INDIRECT('D01'!$C$6),B28+1,FALSE)),"") -> 25 | E28: =IF(D28="","",$D$18) -> 16 | F28: =IF(D28="","",$D$17) -> 1.25 | G28: =IF(D28="","",SQRT(((2*SIN($D$18/$D$16)*($D$16/2))/2)^2+((SQRT(($D$16/2)^2-((2*SIN($D$18/$D$16)*($D$16/2))/2)^2))+(($D28/2)+$D$17-($D$16/2)))^2)-($D28/2)) -> 1.1192971 | H28: =IF(D28="","",$D$17-G28) -> 0.13070289
B29: =IF('D01'!B6>=6,6,"") -> 6 | C29: =IF(B29<>"",IF(COUNTIF('D01'!$D$6:$M$6,"="&$D$16)=0,"Invalid diameter",$D$16),"") -> 26 | D29: =IF(B29<>"",IF(C29="Invalid diameter","",VLOOKUP($D$16,INDIRECT('D01'!$C$6),B29+1,FALSE)),"") -> 26 | E29: =IF(D29="","",$D$18) -> 16 | F29: =IF(D29="","",$D$17) -> 1.25 | G29: =IF(D29="","",SQRT(((2*SIN($D$18/$D$16)*($D$16/2))/2)^2+((SQRT(($D$16/2)^2-((2*SIN($D$18/$D$16)*($D$16/2))/2)^2))+(($D29/2)+$D$17-($D$16/2)))^2)-($D29/2)) -> 1.0392458 | H29: =IF(D29="","",$D$17-G29) -> 0.21075418
B30: =IF('D01'!B6>=7,7,"") -> 7 | C30: =IF(B30<>"",IF(COUNTIF('D01'!$D$6:$M$6,"="&$D$16)=0,"Invalid diameter",$D$16),"") -> 26 | D30: =IF(B30<>"",IF(C30="Invalid diameter","",VLOOKUP($D$16,INDIRECT('D01'!$C$6),B30+1,FALSE)),"") -> 27 | E30: =IF(D30="","",$D$18) -> 16 | F30: =IF(D30="","",$D$17) -> 1.25 | G30: =IF(D30="","",SQRT(((2*SIN($D$18/$D$16)*($D$16/2))/2)^2+((SQRT(($D$16/2)^2-((2*SIN($D$18/$D$16)*($D$16/2))/2)^2))+(($D30/2)+$D$17-($D$16/2)))^2)-($D30/2)) -> 0.96428679 | H30: =IF(D30="","",$D$17-G30) -> 0.28571321
B31: =IF('D01'!B6>=8,8,"") -> 8 | C31: =IF(B31<>"",IF(COUNTIF('D01'!$D$6:$M$6,"="&$D$16)=0,"Invalid diameter",$D$16),"") -> 26 | D31: =IF(B31<>"",IF(C31="Invalid diameter","",VLOOKUP($D$16,INDIRECT('D01'!$C$6),B31+1,FALSE)),"") -> 28 | E31: =IF(D31="","",$D$18) -> 16 | F31: =IF(D31="","",$D$17) -> 1.25 | G31: =IF(D31="","",SQRT(((2*SIN($D$18/$D$16)*($D$16/2))/2)^2+((SQRT(($D$16/2)^2-((2*SIN($D$18/$D$16)*($D$16/2))/2)^2))+(($D31/2)+$D$17-($D$16/2)))^2)-($D31/2)) -> 0.89398407 | H31: =IF(D31="","",$D$17-G31) -> 0.35601593
B32: =IF('D01'!B6>=9,9,"") -> 9 | C32: =IF(B32<>"",IF(COUNTIF('D01'!$D$6:$M$6,"="&$D$16)=0,"Invalid diameter",$D$16),"") -> 26 | D32: =IF(B32<>"",IF(C32="Invalid diameter","",VLOOKUP($D$16,INDIRECT('D01'!$C$6),B32+1,FALSE)),"") -> 29 | E32: =IF(D32="","",$D$18) -> 16 | F32: =IF(D32="","",$D$17) -> 1.25 | G32: =IF(D32="","",SQRT(((2*SIN($D$18/$D$16)*($D$16/2))/2)^2+((SQRT(($D$16/2)^2-((2*SIN($D$18/$D$16)*($D$16/2))/2)^2))+(($D32/2)+$D$17-($D$16/2)))^2)-($D32/2)) -> 0.82794607 | H32: =IF(D32="","",$D$17-G32) -> 0.42205393
B33: =IF('D01'!B6>=10,10,"") -> 10 | C33: =IF(B33<>"",IF(COUNTIF('D01'!$D$6:$M$6,"="&$D$16)=0,"Invalid diameter",$D$16),"") -> 26 | D33: =IF(B33<>"",IF(C33="Invalid diameter","",VLOOKUP($D$16,INDIRECT('D01'!$C$6),B33+1,FALSE)),"") -> 30 | E33: =IF(D33="","",$D$18) -> 16 | F33: =IF(D33="","",$D$17) -> 1.25 | G33: =IF(D33="","",SQRT(((2*SIN($D$18/$D$16)*($D$16/2))/2)^2+((SQRT(($D$16/2)^2-((2*SIN($D$18/$D$16)*($D$16/2))/2)^2))+(($D33/2)+$D$17-($D$16/2)))^2)-($D33/2)) -> 0.76582063 | H33: =IF(D33="","",$D$17-G33) -> 0.48417937
B34: =IF('D01'!B6>=11,11,"") | C34: =IF(B34<>"",IF(COUNTIF('D01'!$D$6:$M$6,"="&$D$16)=0,"Invalid diameter",$D$16),"") | D34: =IF(B34<>"",IF(C34="Invalid diameter","",VLOOKUP($D$16,INDIRECT('D01'!$C$6),B34+1,FALSE)),"") | E34: =IF(D34="","",$D$18) | F34: =IF(D34="","",$D$17) | G34: =IF(D34="","",SQRT(((2*SIN($D$18/$D$16)*($D$16/2))/2)^2+((SQRT(($D$16/2)^2-((2*SIN($D$18/$D$16)*($D$16/2))/2)^2))+(($D34/2)+$D$17-($D$16/2)))^2)-($D34/2)) | H34: =IF(D34="","",$D$17-G34)
B35: =IF('D01'!B6>=12,12,"") | C35: =IF(B35<>"",IF(COUNTIF('D01'!$D$6:$M$6,"="&$D$16)=0,"Invalid diameter",$D$16),"") | D35: =IF(B35<>"",IF(C35="Invalid diameter","",VLOOKUP($D$16,INDIRECT('D01'!$C$6),B35+1,FALSE)),"") | E35: =IF(D35="","",$D$18) | F35: =IF(D35="","",$D$17) | G35: =IF(D35="","",SQRT(((2*SIN($D$18/$D$16)*($D$16/2))/2)^2+((SQRT(($D$16/2)^2-((2*SIN($D$18/$D$16)*($D$16/2))/2)^2))+(($D35/2)+$D$17-($D$16/2)))^2)-($D35/2)) | H35: =IF(D35="","",$D$17-G35)
C37: Remarks : | D37: 1 - You can only select and change the values in the blue cells
D38: 2 - The more the actual cane diameter deviates from the specified diameter, and the less straight and round the
D39: piece of cane is, the more the calculated values ​​will deviate
D40: 3 - We sell gougers from stock for all indicated options
B42: PI_017_v01-01_EN | I42: Product information

Sheet D01
A1: Bassoon | B1: 10 | C1: ="'D01'!$A$10:$M$14" -> 'D01'!$A$10:$M$14 | D1: ="'D01'!$E$6:$I$6" -> 'D01'!$E$6:$I$6 | E1: 24 | F1: 25 | G1: 26 | H1: 27 | I1: 28
A2: Contra bassoon | B2: 4 | C2: ="'D01'!$A$17:$M$20" -> 'D01'!$A$17:$M$20 | D2: ="'D01'!$E$6:$H$6" -> 'D01'!$E$6:$H$6 | E2: 25 | F2: 28 | G2: 30 | H2: 32
A3: Contraforte | B3: 2 | C3: ="'D01'!$A$23:$M$24" -> 'D01'!$A$23:$M$24 | D3: ="'D01'!$E$6:$F$6" -> 'D01'!$E$6:$F$6 | E3: 30 | F3: 32
A4: Baroque bassoon | B4: 10 | C4: ="'D01'!$A$27:$M$31" -> 'D01'!$A$27:$M$31 | D4: ="'D01'!$E$6:$I$6" -> 'D01'!$E$6:$I$6 | E4: 25 | F4: 26 | G4: 27 | H4: 28 | I4: 30
A6: =VLOOKUP(BA!D15,$A$1:$N$4,1,FALSE) -> Bassoon | B6: =VLOOKUP(BA!D15,$A$1:$N$4,2,FALSE) -> 10 | C6: =VLOOKUP(BA!D15,$A$1:$N$4,3,FALSE) -> 'D01'!$A$10:$M$14 | D6: =VLOOKUP(BA!D15,$A$1:$N$4,4,FALSE) -> 'D01'!$E$6:$I$6 | E6: =VLOOKUP(BA!D15,$A$1:$N$4,5,FALSE) -> 24 | F6: =VLOOKUP(BA!D15,$A$1:$N$4,6,FALSE) -> 25 | G6: =VLOOKUP(BA!D15,$A$1:$N$4,7,FALSE) -> 26 | H6: =VLOOKUP(BA!D15,$A$1:$N$4,8,FALSE) -> 27 | I6: =VLOOKUP(BA!D15,$A$1:$N$4,9,FALSE) -> 28 | J6: =VLOOKUP(BA!D15,$A$1:$N$4,10,FALSE) -> 0 | K6: =VLOOKUP(BA!D15,$A$1:$N$4,11,FALSE) -> 0 | L6: =VLOOKUP(BA!D15,$A$1:$N$4,12,FALSE) -> 0 | M6: =VLOOKUP(BA!D15,$A$1:$N$4,13,FALSE) -> 0
A9: Bassoon | B9: 1 | C9: 2 | D9: 3 | E9: 4 | F9: 5 | G9: 6 | H9: 7 | I9: 8 | J9: 9 | K9: 10 | L9: 11 | M9: 12
A10: 24 | B10: 21.5 | C10: 22.5 | D10: 23.5 | E10: 24 | F10: 25 | G10: 26 | H10: 27 | I10: 28 | J10: 29 | K10: 30
A11: 25 | B11: 21.5 | C11: 22.5 | D11: 23.5 | E11: 24 | F11: 25 | G11: 26 | H11: 27 | I11: 28 | J11: 29 | K11: 30
A12: 26 | B12: 21.5 | C12: 22.5 | D12: 23.5 | E12: 24 | F12: 25 | G12: 26 | H12: 27 | I12: 28 | J12: 29 | K12: 30
A13: 27 | B13: 21.5 | C13: 22.5 | D13: 23.5 | E13: 24 | F13: 25 | G13: 26 | H13: 27 | I13: 28 | J13: 29 | K13: 30
A14: 28 | B14: 21.5 | C14: 22.5 | D14: 23.5 | E14: 24 | F14: 25 | G14: 26 | H14: 27 | I14: 28 | J14: 29 | K14: 30
A16: Contra bassoon | B16: 1 | C16: 2 | D16: 3 | E16: 4 | F16: 5 | G16: 6 | H16: 7 | I16: 8 | J16: 9 | K16: 10 | L16: 11 | M16: 12
A17: 25 | B17: 27 | C17: 28 | D17: 29 | E17: 30
A18: 28 | B18: 27 | C18: 28 | D18: 29 | E18: 30
A19: 30 | B19: 27 | C19: 28 | D19: 29 | E19: 30
A20: 32 | B20: 27 | C20: 28 | D20: 29 | E20: 30
A22: Contraforte | B22: 1 | C22: 2 | D22: 3 | E22: 4 | F22: 5 | G22: 6 | H22: 7 | I22: 8 | J22: 9 | K22: 10 | L22: 11 | M22: 12
A23: 30 | B23: 29 | C23: 30
A24: 32 | B24: 29 | C24: 30
A26: Baroque bassoon | B26: 1 | C26: 2 | D26: 3 | E26: 4 | F26: 5 | G26: 6 | H26: 7 | I26: 8 | J26: 9 | K26: 10 | L26: 11 | M26: 12
A27: 25 | B27: 21.5 | C27: 22.5 | D27: 23.5 | E27: 24 | F27: 25 | G27: 26 | H27: 27 | I27: 28 | J27: 29 | K27: 30
A28: 26 | B28: 21.5 | C28: 22.5 | D28: 23.5 | E28: 24 | F28: 25 | G28: 26 | H28: 27 | I28: 28 | J28: 29 | K28: 30
A29: 27 | B29: 21.5 | C29: 22.5 | D29: 23.5 | E29: 24 | F29: 25 | G29: 26 | H29: 27 | I29: 28 | J29: 29 | K29: 30
A30: 28 | B30: 21.5 | C30: 22.5 | D30: 23.5 | E30: 24 | F30: 25 | G30: 26 | H30: 27 | I30: 28 | J30: 29 | K30: 30
A31: 30 | B31: 21.5 | C31: 22.5 | D31: 23.5 | E31: 24 | F31: 25 | G31: 26 | H31: 27 | I31: 28 | J31: 29 | K31: 30
A33: y
