Workbook

Sheet Vyplní žadatel
A2: Příloha: Přehled příjmů a výdajů domácnosti 2026
A7: Příjmy domácnosti
A8: Uveďte obvyklé čisté měsíční příjmy všech členů domácnosti. | D8: Uveďte pouze obvyklé měsíční náklady související se zajištěním potřebné péče.
B9: Částka v Kč | D9: Výdaje na péči | E9: Uveďte nejčastější konkrétní měsíční položky | F9: Částka v Kč
A11: Příjmy ze zaměstnání, brigád, podnikání apod. | D11: Služby
A12: Podpora v nezaměstnanosti | D12: Léky a pomůcky
A13: Důchod invalidní | D13: Speciální dieta
A14: Důchod starobní | D14: Další náklady na péči
A15: Důchod vdovský | D15: Celkem | F15: =SUM(F11:F14) -> 0
A16: Důchod sirotčí
A17: Nemocenské | D17: Výdaje na bydlení
A18: Jiné dávky z nemocenského pojištění
A19: Výživné na dítě | D19: Zde můžete v případě potřeby krátce okomentovat uvedené příjmy a výdaje
A20: Přídavek na dítě
A21: Rodičovský příspěvek
A22: Příspěvek na bydlení
A23: Příspěvek na živobytí
A24: Doplatek na bydlení
A25: Superdávka | E25: Počet členů domácnosti | F25: =SUM(F26:F29) -> 0
A26: Dávky pěstounské péče | E26: dospělí a nestudující děti starší 15 let
A27: Příspěvek na péči | E27: nezaopatřené dítě ve věku do 6 let
A28: Příspěvek na mobilitu | E28: nezaopatřené dítě ve věku od 6 do 15 let
A29: Jiné příjmy | E29: nezaopatřené dítě ve věku od 15 do 26 let
A30: Celkem | B30: =SUM(B11:B29) -> 0
F31: =IF(List!F25>List!F14,"#"," ")

Sheet List
A5: Životní minimum od 1.10.2026
A6: Dospělí single | D6: 5500 | F6: =IF('Vyplní žadatel'!F24=1,D6-D8,0) -> 0
A8: Dospělý - první | D8: 5000 | F8: =IF('Vyplní žadatel'!F26>=1,List!D8,0) -> 0
A9: Dospělý - další | D9: 3750 | F9: =IF('Vyplní žadatel'!F26>1,('Vyplní žadatel'!F26-1)*List!D9,0) -> 0
A10: Dítě do 6 let | D10: 2480 | F10: ='Vyplní žadatel'!F27*List!D10 -> 0
A11: Dítě 6-15 | D11: 3050 | F11: ='Vyplní žadatel'!F28*List!D11 -> 0
A12: Dítě 15-26 | D12: 3490 | F12: ='Vyplní žadatel'!F29*List!D12 -> 0
F13: =SUM(F6:F12) -> 0
A14: 3,4 násobek živ. minima | F14: =F13*3.4 -> 0
A16: Normativní náklady na bydlení
A17: 1 | D17: =16810+(2300*1.4) -> 20030 | F17: =IF('Vyplní žadatel'!F25=List!A17,D17,0) -> 0
A18: 2 | D18: =19770+(2800*1.4) -> 23690 | F18: =IF('Vyplní žadatel'!F25=List!A18,D18,0) -> 0
A19: 3 | D19: =22794+(3300*1.4) -> 27414 | F19: =IF('Vyplní žadatel'!F25=List!A19,D19,0) -> 0
A20: 4 | D20: =24370+(3800*1.4) -> 29690 | F20: =IF('Vyplní žadatel'!F25=List!A20,D20,0) -> 0
A21: 5 | D21: =24880+(4300*1.4) -> 30900 | F21: =IF('Vyplní žadatel'!F25>=List!A21,D21,0) -> 0
F22: =SUM(F17:F21) -> 0
A25: Započitatelné příjmy domácnosti | F25: ='Vyplní žadatel'!B30-'Vyplní žadatel'!F15-F22 -> 0
